BEGIN:VCALENDAR
VERSION:2.0
PRODID:gruene-schelklingen.de
METHOD:PUBLISH
BEGIN:VTIMEZONE
TZID:Europe/Berlin
X-LIC-LOCATION:Europe/Berlin
BEGIN:DAYLIGHT
TZOFFSETFROM:+0100
TZOFFSETTO:+0200
TZNAME:CEST
DTSTART:19700329T020000
RRULE:FREQ=YEARLY;INTERVAL=1;BYDAY=-1SU;BYMONTH=3
END:DAYLIGHT
BEGIN:STANDARD
TZOFFSETFROM:+0200
TZOFFSETTO:+0100
TZNAME:CET
DTSTART:19701025T030000
RRULE:FREQ=YEARLY;INTERVAL=1;BYDAY=-1SU;BYMONTH=10
END:STANDARD
END:VTIMEZONE
BEGIN:VEVENT
UID:1fcdcfc4e95c7414306ec448da670534@gruene-schelklingen.de
URL;VALUE=URI:https://gruene-schelklingen.de/termine/licht-an-fuer-demokr
 atie/
LOCATION:Münsterplatz, Münsterplatz 1, Ulm
SUMMARY:Licht an für Demokratie!
DESCRIPTION;ALTREP="data:text/html,%0A%3Cp%3EAm%20%3Cstrong%3ESamstag%202
 8.%20Februar%3C%2Fstrong%3E%20laden%20die%20%3Cem%3EOmas%20gegen%20Rechts
 %2C%20das%20B%C3%BCndnis%20f%C3%BCr%20Vielfalt%20und%20Demokratie%2C%20de
 r%20BUND%20und%20die%20Naturfreunde%20Ulm%3C%2Fem%3E%20ein%20zu%20einem%2
 0friedlichen%20%3Cstrong%3ELichterzug%20f%C3%BCr%20Demokratie.%3C%2Fstron
 g%3E%3C%2Fp%3E%0A%0A%0A%0A%3Cp%3E%3Cem%3EDie%20Aktion%20soll%20ein%20star
 kes%2C%20leuchtendes%2C%20friedliches%20Zeichen%20setzen.%3C%2Fem%3E%3Cbr
 %3EUnd%20OHNE%20Sprechch%C3%B6re%2C%20Parolen%20und%20Nationalflaggen%20o
 der%20eine%20%22Demo%20der%20leisen%20T%C3%B6ne%22%20sein.%3C%2Fp%3E%0A%0
 A%0A%0A%3Cp%3EWir%20w%C3%BCrden%20uns%20%C3%BCber%20eine%20starke%20Schel
 klinger%20Teilnahme%20-%20am%20besten%20mit%20dem%20Zug%20-%20freuen.%20B
 itte%20nur%20LED%20Lichter%20und%20kein%20offenes%20Feuer%20benutzen.%3C%
 2Fp%3E%0A%0A%0A%0A%3Cp%3EStartpunkt%20ist%20um%20%3Cstrong%3E18%20Uhr%20a
 uf%20dem%20M%C3%BCnsterplatz%3C%2Fstrong%3E.%3C%2Fp%3E%0A%0A%0A%0A%3Cp%3E
 %3C%2Fp%3E%0A":Am Samstag 28. Februar laden die Omas gegen Rechts\, das B
 ündnis für Vielfalt und Demokratie\, der BUND und die Naturfreunde Ulm 
 ein zu einem friedlichen Lichterzug für Demokratie.\n\nDie Aktion soll e
 in starkes\, leuchtendes\, friedliches Zeichen setzen.Und OHNE Sprechchö
 re\, Parolen und Nationalflaggen oder eine "Demo der leisen Töne" sein.\
 n\nWir würden uns über eine starke Schelklinger Teilnahme - am besten m
 it dem Zug - freuen. Bitte nur LED Lichter und kein offenes Feuer benutze
 n.\n\nStartpunkt ist um 18 Uhr auf dem Münsterplatz.
CLASS:PUBLIC
DTSTART;TZID=Europe/Berlin:20260228T180000
DTEND;TZID=Europe/Berlin:20260228T200000
DTSTAMP:20260422T102643
END:VEVENT
END:VCALENDAR